BEGIN:VCALENDAR
VERSION:2.0
PRODID:-//ChamberMaster//Event Calendar 2.0//EN
METHOD:PUBLISH
X-PUBLISHED-TTL:P3D
REFRESH-INTERVAL:P3D
CALSCALE:GREGORIAN
BEGIN:VEVENT
DTSTART:20190613T190000Z
DTEND:20190613T190000Z
X-MICROSOFT-CDO-ALLDAYEVENT:FALSE
SUMMARY:Membership & Marketing Committee Meeting
DESCRIPTION:Membership & Marketing Committee Meeting
X-ALT-DESC;FMTTYPE=text/html:<span style="font-size: 16px\;"><b>Membership &amp\; Marketing Committee Meeting</b></span>
LOCATION:Lamppost Pizza 10130 Warner Ave.\, #H Fountain Valley
UID:e.2030.4960
SEQUENCE:3
DTSTAMP:20260423T053759Z
URL:http://business.fvchamber.com/events/details/strategic-marketing-council-06-13-2019-4960
END:VEVENT

END:VCALENDAR
