BEGIN:VCALENDAR
VERSION:2.0
PRODID:-//ChamberMaster//Event Calendar 2.0//EN
METHOD:PUBLISH
X-PUBLISHED-TTL:P3D
REFRESH-INTERVAL:P3D
CALSCALE:GREGORIAN
BEGIN:VEVENT
DTSTART:20170802T160000Z
DTEND:20170802T173000Z
X-MICROSOFT-CDO-ALLDAYEVENT:FALSE
SUMMARY:Strategic Advisory Council
DESCRIPTION:
X-ALT-DESC;FMTTYPE=text/html:
LOCATION:Fountain Valley Chamber of Commerce 10055 Slater Ave.\, Ste. 250 Fountain Valley
UID:e.2030.456
SEQUENCE:3
DTSTAMP:20260424T155411Z
URL:http://business.fvchamber.com/events/details/strategic-advisory-council-08-02-2017-456
END:VEVENT

END:VCALENDAR
