BEGIN:VCALENDAR
VERSION:2.0
PRODID:-//ChamberMaster//Event Calendar 2.0//EN
METHOD:PUBLISH
X-PUBLISHED-TTL:P3D
REFRESH-INTERVAL:P3D
CALSCALE:GREGORIAN
BEGIN:VEVENT
DTSTART:20180208T200000Z
DTEND:20180208T210000Z
X-MICROSOFT-CDO-ALLDAYEVENT:FALSE
SUMMARY:Strategic Marketing Council
DESCRIPTION:Strategic Marketing Council
X-ALT-DESC;FMTTYPE=text/html:<span style="font-size:16px\;"><strong>Strategic Marketing Council</strong></span>
LOCATION:Lamppost Pizza 10130 Warner Ave. Fountain Valley
UID:e.2030.462
SEQUENCE:3
DTSTAMP:20260424T051507Z
URL:http://business.fvchamber.com/events/details/strategic-advisory-council-02-07-2018-462
END:VEVENT

END:VCALENDAR
