BEGIN:VCALENDAR
VERSION:2.0
PRODID:-//ChamberMaster//Event Calendar 2.0//EN
METHOD:PUBLISH
X-PUBLISHED-TTL:P3D
REFRESH-INTERVAL:P3D
CALSCALE:GREGORIAN
BEGIN:VEVENT
DTSTART:20160106T170000Z
DTEND:20160106T180000Z
X-MICROSOFT-CDO-ALLDAYEVENT:FALSE
SUMMARY:Strategic Advisory Council
DESCRIPTION:Strategic Advisory Council Meeting
X-ALT-DESC;FMTTYPE=text/html:<span style="font-size:16px\;"><strong>Strategic Advisory Council Meeting</strong></span>
LOCATION:Fountain Valley Chamber of Commerce 10055 Slater Ave.\, Ste. 250 Fountain Valley
UID:e.2030.437
SEQUENCE:3
DTSTAMP:20260425T203639Z
URL:http://business.fvchamber.com/events/details/strategic-advisory-council-01-06-2016-437
END:VEVENT

END:VCALENDAR
