BEGIN:VCALENDAR
VERSION:2.0
PRODID:-//ChamberMaster//Event Calendar 2.0//EN
METHOD:PUBLISH
X-PUBLISHED-TTL:P3D
REFRESH-INTERVAL:P3D
CALSCALE:GREGORIAN
BEGIN:VEVENT
DTSTART:20190823T000000Z
DTEND:20190823T020000Z
X-MICROSOFT-CDO-ALLDAYEVENT:FALSE
SUMMARY:Stop Parkinson's Foundation Mixer
DESCRIPTION:Join the Fountain Valley Chamber at our newest member's exclusive Networking Mixer. Enjoy the conversations\, connections\, and camaraderie. All while enjoying some food\, drinks\, karaoke\, pool\, darts and the company of all your fellow chamber members. Musical Entertainment will be provided. See ya there!
X-ALT-DESC;FMTTYPE=text/html:<span style="font-size:18px\;"><span style="font-family:verdana\;"><span style="color:#0000FF\;"><strong>Join the Fountain Valley Chamber at our newest member&#39\;s exclusive Networking Mixer. Enjoy the conversations\, connections\, and camaraderie. All while enjoying some food\, drinks\, karaoke\, pool\, darts and the company of all your fellow chamber members. Musical Entertainment will be provided. See ya there!</strong></span></span></span>
LOCATION:Ozzie's Sports Bar at Fountain Bowl 17110 Brookhurst St. Fountain Valley\, CA 92708
UID:e.2030.5127
SEQUENCE:3
DTSTAMP:20260423T023704Z
URL:http://business.fvchamber.com/events/details/stop-parkinson-s-foundation-mixer-5127
END:VEVENT

END:VCALENDAR
