BEGIN:VCALENDAR
VERSION:2.0
PRODID:-//ChamberMaster//Event Calendar 2.0//EN
METHOD:PUBLISH
X-PUBLISHED-TTL:P3D
REFRESH-INTERVAL:P3D
CALSCALE:GREGORIAN
BEGIN:VEVENT
DTSTART:20160628T183000Z
DTEND:20160628T200000Z
X-MICROSOFT-CDO-ALLDAYEVENT:FALSE
SUMMARY:State of the Utility Chamber Luncheon
DESCRIPTION:Summer Luncheon Series\n\nState of the Utility\n\npresented by Jenelle Bader\, Local Public Affairs Region Manager\n\nSouthern California Edison
X-ALT-DESC;FMTTYPE=text/html:<strong><span style="font-size:14px\;"><em>Summer Luncheon Series</em></span><br />\n<span style="font-size:16px\;">State of the Utility</span><br />\npresented by Jenelle Bader\, Local Public Affairs Region Manager<br />\nSouthern California Edison</strong>
LOCATION:Starfish Restaurant 16525 Brookhurst Street (at Heil) Fountain Valley
UID:e.2030.2327
SEQUENCE:3
DTSTAMP:20260425T142022Z
URL:http://business.fvchamber.com/events/details/state-of-the-utility-chamber-luncheon-06-28-2016-2327
END:VEVENT

END:VCALENDAR
