BEGIN:VCALENDAR
VERSION:2.0
PRODID:-//ChamberMaster//Event Calendar 2.0//EN
METHOD:PUBLISH
X-PUBLISHED-TTL:P3D
REFRESH-INTERVAL:P3D
CALSCALE:GREGORIAN
BEGIN:VEVENT
DTSTART;VALUE=DATE:20200610
DTEND;VALUE=DATE:20200611
TRANSP:TRANSPARENT
X-MICROSOFT-CDO-ALLDAYEVENT:TRUE
SUMMARY:State of the Pandemic A 3-Part Interactive Series (Health & Safety)
DESCRIPTION:State of the Pandemic: A 3-Part Interactive Series of Post-Pandemic Planning for You & Your Business. \n\n\n\nJune 10\, 2020: Health & Safety
X-ALT-DESC;FMTTYPE=text/html:<strong><span style="color:#000080\;"><span style="font-family:verdana\;"><span style="font-size:18px\;">State of the Pandemic: A 3-Part Interactive Series of Post-Pandemic Planning for You &amp\; Your Business.&nbsp\;<br />\n<br />\nJune 10\, 2020: Health &amp\; Safety</span></span></span></strong>
LOCATION:The State of the Pandemic interactive series will take place through an online seminar. Zoom link will be posted soon.
UID:e.2030.5316
SEQUENCE:3
DTSTAMP:20260422T110908Z
URL:http://business.fvchamber.com/events/details/state-of-the-pandemic-a-3-part-interactive-series-health-safety-5316
END:VEVENT

END:VCALENDAR
