BEGIN:VCALENDAR
VERSION:2.0
PRODID:-//ChamberMaster//Event Calendar 2.0//EN
METHOD:PUBLISH
X-PUBLISHED-TTL:P3D
REFRESH-INTERVAL:P3D
CALSCALE:GREGORIAN
BEGIN:VEVENT
DTSTART;VALUE=DATE:20200624
DTEND;VALUE=DATE:20200625
TRANSP:TRANSPARENT
X-MICROSOFT-CDO-ALLDAYEVENT:TRUE
SUMMARY:State of the Pandemic A 3-Part Interactive Series (Financial Stability)
DESCRIPTION:State of the Pandemic: A 3-Part Interactive Series of Post-Pandemic Planning for You & Your Business. \n\n\n\nJune 24\, 2020: Regional Outlook
X-ALT-DESC;FMTTYPE=text/html:<span style="color: rgb(0\, 0\, 128)\; font-family: verdana\; font-size: 18px\; font-weight: 700\; background-color: rgb(255\, 255\, 255)\;">State of the Pandemic: A 3-Part Interactive Series of Post-Pandemic Planning for You &amp\; Your Business.&nbsp\;</span><br style="box-sizing: content-box\; bottom: auto\; clear: none\; color: inherit\; content: normal\; direction: inherit\; display: inline\; empty-cells: show\; float: none\; font: inherit\; left: auto\; letter-spacing: inherit\; margin: 0px\; max-height: none\; max-width: none\; min-height: initial\; min-width: initial\; opacity: 1\; outline-offset: 0px\; overflow: visible\; padding: 0px\; position: static\; resize: none\; right: auto\; table-layout: auto\; text-align: inherit\; text-indent: inherit\; text-overflow: clip\; text-transform: inherit\; top: auto\; vertical-align: baseline\; visibility: inherit\; white-space: inherit\; word-break: inherit\; word-spacing: inherit\; overflow-wrap: inherit\; z-index: auto\; background-image: none\; background-position: initial\; background-size: initial\; background-repeat: initial\; background-attachment: initial\; background-origin: initial\; background-clip: initial\; border: none\; border-collapse: separate\; border-radius: 0px\; height: auto\; width: auto\;" />\n<br style="box-sizing: content-box\; bottom: auto\; clear: none\; color: inherit\; content: normal\; direction: inherit\; display: inline\; empty-cells: show\; float: none\; font: inherit\; left: auto\; letter-spacing: inherit\; margin: 0px\; max-height: none\; max-width: none\; min-height: initial\; min-width: initial\; opacity: 1\; outline-offset: 0px\; overflow: visible\; padding: 0px\; position: static\; resize: none\; right: auto\; table-layout: auto\; text-align: inherit\; text-indent: inherit\; text-overflow: clip\; text-transform: inherit\; top: auto\; vertical-align: baseline\; visibility: inherit\; white-space: inherit\; word-break: inherit\; word-spacing: inherit\; overflow-wrap: inherit\; z-index: auto\; background-image: none\; background-position: initial\; background-size: initial\; background-repeat: initial\; background-attachment: initial\; background-origin: initial\; background-clip: initial\; border: none\; border-collapse: separate\; border-radius: 0px\; height: auto\; width: auto\;" />\n<span style="color: rgb(0\, 0\, 128)\; font-family: verdana\; font-size: 18px\; font-weight: 700\; background-color: rgb(255\, 255\, 255)\;">June 24\, 2020: Regional Outlook</span>
LOCATION:The State of the Pandemic interactive series will take place through an online seminar. Zoom link will be posted soon.
UID:e.2030.5318
SEQUENCE:3
DTSTAMP:20260422T110654Z
URL:http://business.fvchamber.com/events/details/state-of-the-pandemic-a-3-part-interactive-series-financial-stability-5318
END:VEVENT

END:VCALENDAR
