BEGIN:VCALENDAR
VERSION:2.0
PRODID:-//ChamberMaster//Event Calendar 2.0//EN
METHOD:PUBLISH
X-PUBLISHED-TTL:P3D
REFRESH-INTERVAL:P3D
CALSCALE:GREGORIAN
BEGIN:VEVENT
DTSTART:20160126T193000Z
DTEND:20160126T213000Z
X-MICROSOFT-CDO-ALLDAYEVENT:FALSE
SUMMARY:State of the City & State of the Chamber Luncheon
DESCRIPTION:State of the City & State of the Chamber Luncheon\n\nUpdates from both the City of Fountain Valley and the Fountain Valley Chamber of Commerce
X-ALT-DESC;FMTTYPE=text/html:<span style="font-size:16px\;"><strong>State of the City &amp\; State of the Chamber Luncheon</strong></span><br />\nUpdates from both the City of Fountain Valley and the Fountain Valley Chamber of Commerce
LOCATION:Mile Square Golf Course Banquet Room 10401 Warner Avenue Fountain Valley
UID:e.2030.2309
SEQUENCE:3
DTSTAMP:20260425T205057Z
URL:http://business.fvchamber.com/events/details/state-of-the-city-state-of-the-chamber-luncheon-01-26-2016-2309
END:VEVENT

END:VCALENDAR
