BEGIN:VCALENDAR
VERSION:2.0
PRODID:-//ChamberMaster//Event Calendar 2.0//EN
METHOD:PUBLISH
X-PUBLISHED-TTL:P3D
REFRESH-INTERVAL:P3D
CALSCALE:GREGORIAN
BEGIN:VEVENT
DTSTART:20180130T193000Z
DTEND:20180130T213000Z
X-MICROSOFT-CDO-ALLDAYEVENT:FALSE
SUMMARY:State of the City Luncheon
DESCRIPTION:State of the City Luncheon\n\n\n\nSponsorships Available
X-ALT-DESC;FMTTYPE=text/html:<span style="font-size:14px\;"><strong><span style="font-size:16px\;">State of the City Luncheon<br />\n<br />\n<em>Sponsorships Available</em></span></strong></span>
LOCATION:Mile Square Golf Course Banquet Room 10401 Warner Avenue Fountain Valley
UID:e.2030.4021
SEQUENCE:3
DTSTAMP:20260424T092534Z
URL:http://business.fvchamber.com/events/details/state-of-the-city-luncheon-4021
END:VEVENT

END:VCALENDAR
