BEGIN:VCALENDAR
VERSION:2.0
PRODID:-//ChamberMaster//Event Calendar 2.0//EN
METHOD:PUBLISH
X-PUBLISHED-TTL:P3D
REFRESH-INTERVAL:P3D
CALSCALE:GREGORIAN
BEGIN:VEVENT
DTSTART;VALUE=DATE:20190129
DTEND;VALUE=DATE:20190130
TRANSP:TRANSPARENT
X-MICROSOFT-CDO-ALLDAYEVENT:TRUE
SUMMARY:State of the City Luncheon
DESCRIPTION:State of the City Luncheon\n\nSponsorships Available\n\nTitle Sponsor - $1500\n\nGold Sponsor - $500\n\nSilver Sponsor - $350
X-ALT-DESC;FMTTYPE=text/html:<span style="font-size:16px\;"><strong>State of the City Luncheon<br />\n<em><span style="font-size:14px\;">Sponsorships Available<br />\nTitle Sponsor - $1500<br />\nGold Sponsor - $500<br />\nSilver Sponsor - $350</span></em></strong></span>
LOCATION:Los Caballeros Sports Village 17272 Newhope Street Fountain Valley
UID:e.2030.4954
SEQUENCE:3
DTSTAMP:20260423T132903Z
URL:http://business.fvchamber.com/events/details/state-of-the-city-luncheon-01-29-2019-4954
END:VEVENT

END:VCALENDAR
