BEGIN:VCALENDAR
VERSION:2.0
PRODID:-//ChamberMaster//Event Calendar 2.0//EN
METHOD:PUBLISH
X-PUBLISHED-TTL:P3D
REFRESH-INTERVAL:P3D
CALSCALE:GREGORIAN
BEGIN:VEVENT
DTSTART:20200129T193000Z
DTEND:20200129T210000Z
X-MICROSOFT-CDO-ALLDAYEVENT:FALSE
SUMMARY:State of the City
DESCRIPTION:State of the City\n\n\n\nJoin the Fountain Valley Chamber of Commerce as we celebrate a New Year with the City's Elected Officials. Join Fountain Valley Mayor: Cheryl Brothers\, City Manager: Rob Houston\, Planning & Building Director\, Brian James & Director of Community Services\, Rob Frizelle as we have an amazing lunch\, followed by a presentation and ending with a Panel Discussion.\n\n\n\nSponsorships are Available By Contacting the Chamber Office At:\n\n714-962-3822
X-ALT-DESC;FMTTYPE=text/html:<span style="font-size:16px\;"><span style="font-family:verdana\;"><span style="color:#0000CD\;"><strong><span style="white-space: pre-wrap\; background-color: rgb(255\, 255\, 255)\;">State of the City</span><br style="color: rgb(29\, 33\, 41)\; font-family: Helvetica\, Arial\, sans-serif\; font-size: 14px\; white-space: pre-wrap\; background-color: rgb(255\, 255\, 255)\;" />\n<br style="color: rgb(29\, 33\, 41)\; font-family: Helvetica\, Arial\, sans-serif\; font-size: 14px\; white-space: pre-wrap\; background-color: rgb(255\, 255\, 255)\;" />\n<span style="white-space: pre-wrap\; background-color: rgb(255\, 255\, 255)\;">Join the Fountain Valley Chamber of Commerce as we celebrate a New Year with the City&#39\;s Elected Officials. Join Fountain Valley Mayor: Cheryl Brothers\, City Manager: Rob Houston\, Planning &amp\; Building Director\, Brian James &amp\; Director of Community Services\, Rob Frizelle as we have an amazing lunch\, followed by a presentation and ending with a Panel Discussion.</span><br style="color: rgb(29\, 33\, 41)\; font-family: Helvetica\, Arial\, sans-serif\; font-size: 14px\; white-space: pre-wrap\; background-color: rgb(255\, 255\, 255)\;" />\n<br style="color: rgb(29\, 33\, 41)\; font-family: Helvetica\, Arial\, sans-serif\; font-size: 14px\; white-space: pre-wrap\; background-color: rgb(255\, 255\, 255)\;" />\n<span style="white-space: pre-wrap\; background-color: rgb(255\, 255\, 255)\;">Sponsorships are Available By Contacting the Chamber Office At:</span><br style="color: rgb(29\, 33\, 41)\; font-family: Helvetica\, Arial\, sans-serif\; font-size: 14px\; white-space: pre-wrap\; background-color: rgb(255\, 255\, 255)\;" />\n<span style="white-space: pre-wrap\; background-color: rgb(255\, 255\, 255)\;">714-962-3822</span></strong></span></span></span>
LOCATION:Founders Village Fountain Valley 17967 Bushard St. Fountain Valley\, CA 92708
UID:e.2030.5277
SEQUENCE:3
DTSTAMP:20260422T192415Z
URL:http://business.fvchamber.com/events/details/state-of-the-city-5277
END:VEVENT

END:VCALENDAR
