BEGIN:VCALENDAR
VERSION:2.0
PRODID:-//ChamberMaster//Event Calendar 2.0//EN
METHOD:PUBLISH
X-PUBLISHED-TTL:P3D
REFRESH-INTERVAL:P3D
CALSCALE:GREGORIAN
BEGIN:VEVENT
DTSTART:20230301T200000Z
DTEND:20230301T213000Z
X-MICROSOFT-CDO-ALLDAYEVENT:FALSE
SUMMARY:State of the City 2023
DESCRIPTION:State of the City\n\nJoin the Fountain Valley of Commerce as we celebrate a New  Year with the City's Elected Officials and get an update on the City.
X-ALT-DESC;FMTTYPE=text/html:<strong style="color: rgb(0\, 0\, 205)\; font-family: verdana\; font-size: 20px\; background-color: rgb(255\, 255\, 255)\;">State of the City<br />\nJoin the Fountain Valley of Commerce as we celebrate a New&nbsp\; Year with the City&#39\;s Elected Officials and get an update on the City.</strong>
LOCATION:Founders Village 17967 Bushard St. Fountain Valley\, CA 92708
UID:e.2030.5876
SEQUENCE:3
DTSTAMP:20260420T032010Z
URL:http://business.fvchamber.com/events/details/state-of-the-city-2023-5876
END:VEVENT

END:VCALENDAR
