BEGIN:VCALENDAR
VERSION:2.0
PRODID:-//ChamberMaster//Event Calendar 2.0//EN
METHOD:PUBLISH
X-PUBLISHED-TTL:P3D
REFRESH-INTERVAL:P3D
CALSCALE:GREGORIAN
BEGIN:VEVENT
DTSTART:20180112T010000Z
DTEND:20180112T030000Z
X-MICROSOFT-CDO-ALLDAYEVENT:FALSE
SUMMARY:State Farm Insurance - Tommy Le Grand Opening / Ribbon Cutting
DESCRIPTION:State Farm Insurance - Tommy Le\n\nGrand Opening / Ribbon Cutting
X-ALT-DESC;FMTTYPE=text/html:<strong><span style="font-size:16px\;">State Farm Insurance - Tommy Le</span><br />\n<span style="font-size:14px\;"><em>Grand Opening / Ribbon Cutting</em></span></strong>
LOCATION:17929 Magnolia Street Fountain Valley\, CA 92708
UID:e.2030.4236
SEQUENCE:3
DTSTAMP:20260424T073038Z
URL:http://business.fvchamber.com/events/details/state-farm-insurance-tommy-le-grand-opening-ribbon-cutting-4236
END:VEVENT

END:VCALENDAR
