BEGIN:VCALENDAR
VERSION:2.0
PRODID:-//ChamberMaster//Event Calendar 2.0//EN
METHOD:PUBLISH
X-PUBLISHED-TTL:P3D
REFRESH-INTERVAL:P3D
CALSCALE:GREGORIAN
BEGIN:VEVENT
DTSTART:20150804T003000Z
DTEND:20150804T023000Z
X-MICROSOFT-CDO-ALLDAYEVENT:FALSE
SUMMARY:Starfish Restaurant 5 Year Anniversary Mixer
DESCRIPTION:Starfish Restaurant\n\n5 Year Anniversary Mixer
X-ALT-DESC;FMTTYPE=text/html:Starfish Restaurant<br />\n5 Year Anniversary Mixer
LOCATION:16525 Brookhurst Street Fountain Valley\, CA 92708
UID:e.2030.2153
SEQUENCE:3
DTSTAMP:20260426T041646Z
URL:http://business.fvchamber.com/events/details/starfish-restaurant-5-year-anniversary-mixer-08-03-2015-2153
END:VEVENT

END:VCALENDAR
