BEGIN:VCALENDAR
VERSION:2.0
PRODID:-//ChamberMaster//Event Calendar 2.0//EN
METHOD:PUBLISH
X-PUBLISHED-TTL:P3D
REFRESH-INTERVAL:P3D
CALSCALE:GREGORIAN
BEGIN:VEVENT
DTSTART:20160513T000000Z
DTEND:20160513T023000Z
X-MICROSOFT-CDO-ALLDAYEVENT:FALSE
SUMMARY:Spring into Action Business Mixer & Expo
DESCRIPTION:Fountain Valley Chamber of Commerce\n\n& SuperStarz Business Networking\n\nSpring into Action Business Mixer & Expo\n\n\n\nNetworking\, Local Businesses Displaying Their Products & Services\n\nRaffle Prizes~50/50 Drawing\, Appetizers ~ No Host Bar
X-ALT-DESC;FMTTYPE=text/html:<div><span style="font-size:14px\;"><strong>Fountain Valley Chamber of Commerce</strong></span></div>\n\n<div><span style="font-size:14px\;"><strong>&amp\; SuperStarz Business Networking</strong></span><br />\n<strong><span style="font-size:20px\;">Spring into Action Business Mixer &amp\; Expo</span></strong><br />\n<br />\nNetworking\, Local Businesses Displaying Their Products &amp\; Services<br />\nRaffle Prizes~50/50 Drawing\, Appetizers ~ No Host Bar<br />\n&nbsp\;</div>\n
LOCATION:David L. Baker Memorial Golf Course 10410 Edinger Ave. Fountain Valley
UID:e.2030.2806
SEQUENCE:3
DTSTAMP:20260425T141831Z
URL:http://business.fvchamber.com/events/details/spring-into-action-business-mixer-expo-05-12-2016-2806
END:VEVENT

END:VCALENDAR
