BEGIN:VCALENDAR
VERSION:2.0
PRODID:-//ChamberMaster//Event Calendar 2.0//EN
METHOD:PUBLISH
X-PUBLISHED-TTL:P3D
REFRESH-INTERVAL:P3D
CALSCALE:GREGORIAN
BEGIN:VEVENT
DTSTART:20170817T000000Z
DTEND:20170817T020000Z
X-MICROSOFT-CDO-ALLDAYEVENT:FALSE
SUMMARY:Sport Clips Grand Opening / Ribbon Cutting
DESCRIPTION:Sport Clips Grand Opening / Ribbon Cutting
X-ALT-DESC;FMTTYPE=text/html:<span style="font-size:18px\;"><strong>Sport Clips Grand Opening / Ribbon Cutting</strong></span>
LOCATION:18657 Brookhurst Street Fountain Valley
UID:e.2030.4207
SEQUENCE:3
DTSTAMP:20260424T155828Z
URL:http://business.fvchamber.com/events/details/sport-clips-grand-opening-ribbon-cutting-4207
END:VEVENT

END:VCALENDAR
