BEGIN:VCALENDAR
VERSION:2.0
PRODID:-//ChamberMaster//Event Calendar 2.0//EN
METHOD:PUBLISH
X-PUBLISHED-TTL:P3D
REFRESH-INTERVAL:P3D
CALSCALE:GREGORIAN
BEGIN:VEVENT
DTSTART:20180118T010000Z
DTEND:20180118T030000Z
X-MICROSOFT-CDO-ALLDAYEVENT:FALSE
SUMMARY:Spoons Grill & Bar Mixer
DESCRIPTION:Spoons Grill & Bar Mixer
X-ALT-DESC;FMTTYPE=text/html:<strong><span style="font-size:18px\;">Spoons Grill &amp\; Bar Mixer</span></strong>
LOCATION:17550 Brookhurst St. Fountain Valley (inside Ayres Hotel)
UID:e.2030.4234
SEQUENCE:3
DTSTAMP:20260424T072217Z
URL:http://business.fvchamber.com/events/details/spoons-grill-bar-mixer-4234
END:VEVENT

END:VCALENDAR
