BEGIN:VCALENDAR
VERSION:2.0
PRODID:-//ChamberMaster//Event Calendar 2.0//EN
METHOD:PUBLISH
X-PUBLISHED-TTL:P3D
REFRESH-INTERVAL:P3D
CALSCALE:GREGORIAN
BEGIN:VEVENT
DTSTART;VALUE=DATE:20170228
DTEND;VALUE=DATE:20170301
TRANSP:TRANSPARENT
X-MICROSOFT-CDO-ALLDAYEVENT:TRUE
SUMMARY:Sponsorship Opportunities: Business & Leadership Awards
DESCRIPTION:The Fountain Valley Chamber of Commerce Business & Leadership Awards will be presenting awards to deserving businesses for their achievements in business\, community service\, and leadership.
X-ALT-DESC;FMTTYPE=text/html:The Fountain Valley Chamber of Commerce Business &amp\; Leadership Awards will be presenting awards to deserving businesses for their achievements in business\, community service\, and leadership.&nbsp\;
LOCATION:Mile Square Golf Course Banquet Room 10401 Warner Ave\, Fountain Valley
UID:e.2030.3858
SEQUENCE:3
DTSTAMP:20260425T005742Z
URL:http://business.fvchamber.com/events/details/sponsorship-opportunities-business-leadership-awards-3858
END:VEVENT

END:VCALENDAR
