BEGIN:VCALENDAR
VERSION:2.0
PRODID:-//ChamberMaster//Event Calendar 2.0//EN
METHOD:PUBLISH
X-PUBLISHED-TTL:P3D
REFRESH-INTERVAL:P3D
CALSCALE:GREGORIAN
BEGIN:VEVENT
DTSTART:20211027T000000Z
DTEND:20211027T020000Z
X-MICROSOFT-CDO-ALLDAYEVENT:FALSE
SUMMARY:Sonesta Select & Sonesta ES Suites- Huntington Beach Ribbon Cutting
DESCRIPTION:Join us Sonesta Select to enjoy a little community spirit\, view our inviting accommodations\, and get to know our local team.\n\nFestivities include:\n\nLight Refreshments\n\nA Few Fun Games\n\nA Tour of Our Accommodations
X-ALT-DESC;FMTTYPE=text/html:<span style="color:#0000FF\;"><span style="font-family:verdana\;"><strong><span style="font-size:20px\;">Join us Sonesta Select to enjoy a little community spirit\, view our inviting accommodations\, and get to know our local team.<br />\nFestivities include:<br />\nLight Refreshments<br />\nA Few Fun Games<br />\nA Tour of Our Accommodations</span></strong></span></span><br />\n&nbsp\;
LOCATION:Sonesta Select & Sonesta ES Suites- Huntington Beach 9950 Slater Avenue\, Fountain Valley\, CA 92708
UID:e.2030.5387
SEQUENCE:3
DTSTAMP:20260421T084602Z
URL:http://business.fvchamber.com/events/details/sonesta-select-sonesta-es-suites-huntington-beach-ribbon-cutting-5387
END:VEVENT

END:VCALENDAR
