BEGIN:VCALENDAR
VERSION:2.0
PRODID:-//ChamberMaster//Event Calendar 2.0//EN
METHOD:PUBLISH
X-PUBLISHED-TTL:P3D
REFRESH-INTERVAL:P3D
CALSCALE:GREGORIAN
BEGIN:VEVENT
DTSTART:20230719T160000Z
DTEND:20230719T200000Z
X-MICROSOFT-CDO-ALLDAYEVENT:FALSE
SUMMARY:Sonesta Open House
DESCRIPTION:Sonesta Open House\n\nEnjoy Breakfast\, Lunch\, and Tropical Treats!\n\nEntertainment and Sonesta Vacation Prizes\n\n\n\nRSVP by Friday\, July 14th
X-ALT-DESC;FMTTYPE=text/html:<span style="font-size:24px\;"><span style="font-family:tahoma\;"><span style="color:#FF0000\;"><strong>Sonesta Open House<br />\nEnjoy Breakfast\, Lunch\, and Tropical Treats!<br />\nEntertainment and Sonesta Vacation Prizes</strong></span></span></span><br />\n<br />\n<span style="font-size:18px\;"><em><strong>RSVP by Friday\, July 14th</strong></em></span>
LOCATION:9950 Slater Ave. Fountain Valley\, CA 92708
UID:e.2030.6185
SEQUENCE:3
DTSTAMP:20260419T204417Z
URL:http://business.fvchamber.com/events/details/sonesta-open-house-6185
END:VEVENT

END:VCALENDAR
