BEGIN:VCALENDAR
VERSION:2.0
PRODID:-//ChamberMaster//Event Calendar 2.0//EN
METHOD:PUBLISH
X-PUBLISHED-TTL:P3D
REFRESH-INTERVAL:P3D
CALSCALE:GREGORIAN
BEGIN:VEVENT
DTSTART:20220215T180000Z
DTEND:20220215T200000Z
X-MICROSOFT-CDO-ALLDAYEVENT:FALSE
SUMMARY:Some Common Legal Protections for Small Business Owners
DESCRIPTION:Some Common Legal Protections for Small Business Owners - This includes looking at the use of business entities (LLC\, corp)\, trademark and copyright protection and benefits of contracting.
X-ALT-DESC;FMTTYPE=text/html:<span style="color: rgb(43\, 55\, 77)\; font-family: ModernSans\, Arial\, Helvetica\, sans-serif\; font-size: 16px\; background-color: rgb(255\, 255\, 255)\;">Some Common Legal Protections for Small Business Owners - This includes looking at the use of business entities (LLC\, corp)\, trademark and copyright protection and benefits of contracting.</span>
LOCATION:Online Webinar
UID:e.2030.5419
SEQUENCE:3
DTSTAMP:20260421T001457Z
URL:http://business.fvchamber.com/events/details/some-common-legal-protections-for-small-business-owners-5419
END:VEVENT

END:VCALENDAR
