BEGIN:VCALENDAR
VERSION:2.0
PRODID:-//ChamberMaster//Event Calendar 2.0//EN
METHOD:PUBLISH
X-PUBLISHED-TTL:P3D
REFRESH-INTERVAL:P3D
CALSCALE:GREGORIAN
BEGIN:VEVENT
DTSTART:20220202T200000Z
DTEND:20220202T210000Z
X-MICROSOFT-CDO-ALLDAYEVENT:FALSE
SUMMARY:Social Media- How to Use Content Calendaring to Increase Sales with your Clients
DESCRIPTION:During the session\, you'll learn how to use a social media calendar to communicate effectively with your clients which will lead to additional sales. We will walk through when and how often to communicate\, maximize messaging for sales increase\, and what tools you can use to create\, manage\, and message out that are free.
X-ALT-DESC;FMTTYPE=text/html:During the session\, you&#39\;ll learn how to use a social media calendar to communicate effectively with your clients which will lead to additional sales. We will walk through when and how often to communicate\, maximize messaging for sales increase\, and what tools you can use to create\, manage\, and message out that are free.
LOCATION:Zoom
UID:e.2030.5564
SEQUENCE:3
DTSTAMP:20260421T013239Z
URL:http://business.fvchamber.com/events/details/social-media-how-to-use-content-calendaring-to-increase-sales-with-your-clients-5564
END:VEVENT

END:VCALENDAR
