BEGIN:VCALENDAR
VERSION:2.0
PRODID:-//ChamberMaster//Event Calendar 2.0//EN
METHOD:PUBLISH
X-PUBLISHED-TTL:P3D
REFRESH-INTERVAL:P3D
CALSCALE:GREGORIAN
BEGIN:VEVENT
DTSTART:20191109T010000Z
DTEND:20191109T050000Z
X-MICROSOFT-CDO-ALLDAYEVENT:FALSE
SUMMARY:Smart Patio Plus Presents: BBQ Night Sale
DESCRIPTION:Our grand showroom\, also known as "StruXure Land"  is new to the Fountain Valley community. We will host events every month and we welcome all to join us! \n\n\n\nAs you know\, we are a material supplier for the eminent\, StruXure Outdoor louvered patio roof system. These modern\, high-tech systems are like no other patio you've seen! They pivot 170 degrees and you control them with a touch of a button\, to ensure you receive the exact amount of sun or shade. The demand for the luxurious\, yet affordable patio systems became so high that we decided to launch it's very own "land" in Fountain Valley to showcase several different styles. \n\n\n\nWe knew we offered the best patio system in the world\, so we decided to go one step further and to offer the same quality of backyard accessories such as grills and furniture. We became a proud dealer for\, Twin Eagles grills\, Alfresco\, Big Green Egg\, and Panama Jack furniture. \n\n\n\nPlease join us for our Monthly BBQ Night Sale to take advantage of HUGE SALES on the best outdoor products in the market. Enjoy live music\, great food\, and relax while shopping for the backyard you've always wanted! \n\n\n\nWe will host our Monthly BBQ Night Sale every second Friday of every month from 5PM-9PM @ StruXure Land: 10700 Spencer Ave. Fountain Valley\, CA 92708.
X-ALT-DESC;FMTTYPE=text/html:<span style="font-size:16px\;"><strong><span style="background-color: rgb(255\, 255\, 255)\; color: rgb(29\, 33\, 41)\; font-family: inherit\;">Our grand showroom\, also known as &ldquo\;StruXure Land&rdquo\;&nbsp\; is new to the Fountain Valley community. We will host events every month and we welcome all to join us! </span><br />\n<br />\n<span style="background-color: rgb(255\, 255\, 255)\; color: rgb(29\, 33\, 41)\; font-family: inherit\;">As you know\, we are a material supplier for the eminent\, StruXure Outdoor louvered patio roof system. These modern\, high-tech systems are like no other patio you&rsquo\;ve seen! They pivot 170 degrees and you control them with a touch of a button\, to ensure you receive the exact amount of sun or shade. The demand for the luxurious\, yet affordable patio systems became so high that we decided to launch it&rsquo\;s very own &ldquo\;land&rdquo\; in Fountain Valley to showcase several different styles. </span><br />\n<br />\n<span style="background-color: rgb(255\, 255\, 255)\; color: rgb(29\, 33\, 41)\; font-family: inherit\;">We knew we offered the best patio system in the world\, so we decided to go one step further and to offer the same quality of backyard accessories such as grills and furniture. We became a proud dealer for\, Twin Eagles grills\, Alfresco\, Big Green Egg\, and Panama Jack furniture. </span><br />\n<br />\n<span style="background-color: rgb(255\, 255\, 255)\; color: rgb(29\, 33\, 41)\; font-family: inherit\;">Please join us for our Monthly BBQ Night Sale to take advantage of HUGE SALES on the best outdoor products in the market. Enjoy live music\, great food\, and relax while shopping for the backyard you&rsquo\;ve always wanted! </span><br />\n<br />\n<span style="background-color: rgb(255\, 255\, 255)\; color: rgb(29\, 33\, 41)\; font-family: inherit\;">We will host our Monthly BBQ Night Sale every second Friday of every month from 5PM-9PM @ StruXure Land: 10700 Spencer Ave. Fountain Valley\, CA 92708. </span></strong></span>
LOCATION:StruXure Land: 10700 Spencer Ave. Fountain Valley\, CA 92708
UID:e.2030.5274
SEQUENCE:3
DTSTAMP:20260422T221910Z
URL:http://business.fvchamber.com/events/details/smart-patio-plus-presents-bbq-night-sale-5274
END:VEVENT

END:VCALENDAR
