BEGIN:VCALENDAR
VERSION:2.0
PRODID:-//ChamberMaster//Event Calendar 2.0//EN
METHOD:PUBLISH
X-PUBLISHED-TTL:P3D
REFRESH-INTERVAL:P3D
CALSCALE:GREGORIAN
BEGIN:VEVENT
DTSTART:20190716T190000Z
DTEND:20190717T000000Z
X-MICROSOFT-CDO-ALLDAYEVENT:FALSE
SUMMARY:Smart Patio Plus Grand Opening Ribbon Cutting
DESCRIPTION:Please join us for our newest chamber member's grand opening ribbon cutting. Enjoy live music\, delicious food\, cocktails and more! They will raffle iPods\, Apple Notebooks\, Apple Airpods\, 65" Inch Television\, and other great prizes. Don't miss out!
X-ALT-DESC;FMTTYPE=text/html:<span style="font-size:16px\;"><span style="font-family:verdana\;"><span style="color:#FF0000\;"><strong><span style="white-space: pre-wrap\; background-color: rgb(255\, 255\, 255)\;">Please join us for our newest chamber member&#39\;s grand opening ribbon cutting. Enjoy live music\, delicious food\, cocktails and more! They will raffle iPods\, Apple Notebooks\, Apple Airpods\, 65&quot\; Inch Television\, and other great prizes. Don&#39\;t miss out!</span></strong></span></span></span>
LOCATION:10700 Spencer Ave. Fountain Valley\, CA 92708
UID:e.2030.5134
SEQUENCE:3
DTSTAMP:20260423T040632Z
URL:http://business.fvchamber.com/events/details/smart-patio-plus-grand-opening-ribbon-cutting-5134
END:VEVENT

END:VCALENDAR
