BEGIN:VCALENDAR
VERSION:2.0
PRODID:-//ChamberMaster//Event Calendar 2.0//EN
METHOD:PUBLISH
X-PUBLISHED-TTL:P3D
REFRESH-INTERVAL:P3D
CALSCALE:GREGORIAN
BEGIN:VEVENT
DTSTART:20190914T010000Z
DTEND:20190914T050000Z
X-MICROSOFT-CDO-ALLDAYEVENT:FALSE
SUMMARY:Smart Patio Plus First Monthly BBQ Night & Grill Sale
DESCRIPTION:Join Smart Patio Plus on September 13 for some Free Food\, Live Entertainment\, and Amazing Deals.\n\n\n\n* Buy any Twin Eagles or Alfresco selected grill packages and receive up to $4500.00 in Panama Jack Dining\, Living Room\, or Outdoor Sets\n\n\n\nIf you have any plans of purchasing any BBQ equipment or furniture\, you cannot miss this event!
X-ALT-DESC;FMTTYPE=text/html:<span style="font-size:16px\;"><span style="color:#000080\;"><span style="font-family:verdana\;"><strong>Join Smart Patio Plus on September 13 for some Free Food\, Live Entertainment\, and Amazing Deals.<br />\n<br />\n* Buy any Twin Eagles or Alfresco selected grill packages and receive up to $4500.00 in Panama Jack Dining\, Living Room\, or Outdoor Sets<br />\n<br />\nIf you have any plans of purchasing any BBQ equipment or furniture\, you cannot miss this event!&nbsp\;</strong></span></span></span>
LOCATION:Struxure Land 10700 Spencer Ave. Fountain Valley\, 92708
UID:e.2030.5142
SEQUENCE:3
DTSTAMP:20260423T023944Z
URL:http://business.fvchamber.com/events/details/smart-patio-plus-first-monthly-bbq-night-grill-sale-5142
END:VEVENT

END:VCALENDAR
