BEGIN:VCALENDAR
VERSION:2.0
PRODID:-//ChamberMaster//Event Calendar 2.0//EN
METHOD:PUBLISH
X-PUBLISHED-TTL:P3D
REFRESH-INTERVAL:P3D
CALSCALE:GREGORIAN
BEGIN:VEVENT
DTSTART:20220306T000000Z
DTEND:20220306T030000Z
X-MICROSOFT-CDO-ALLDAYEVENT:FALSE
SUMMARY:Sips & Sweets @ Sunset - A Meet & Greet
DESCRIPTION:Join us for Sips & Sweets @ Sunset\, a private Meet & Greet with Special Guests Congresswoman Michelle Steel. Brought to you by the Fountain Valley Chamber\, OC Realtors\, and Seashore Pest Control.
X-ALT-DESC;FMTTYPE=text/html:<span style="font-size:18px\;"><span style="color:#A52A2A\;"><strong><em><span style="font-family:times new roman\;">Join us for Sips &amp\; Sweets @ Sunset\, a private Meet &amp\; Greet with Special Guests Congresswoman Michelle Steel. Brought to you by the Fountain Valley Chamber\, OC Realtors\, and Seashore Pest Control.</span></em></strong></span></span>
LOCATION:Address provided upon RSVP
UID:e.2030.5561
SEQUENCE:3
DTSTAMP:20260420T235157Z
URL:http://business.fvchamber.com/events/details/sips-sweets-sunset-a-meet-greet-5561
END:VEVENT

END:VCALENDAR
