BEGIN:VCALENDAR
VERSION:2.0
PRODID:-//ChamberMaster//Event Calendar 2.0//EN
METHOD:PUBLISH
X-PUBLISHED-TTL:P3D
REFRESH-INTERVAL:P3D
CALSCALE:GREGORIAN
BEGIN:VEVENT
DTSTART:20151017T180000Z
DTEND:20151017T210000Z
X-MICROSOFT-CDO-ALLDAYEVENT:FALSE
SUMMARY:Shopping Center Promotion
DESCRIPTION:Chamber Awareness Month\n\nMagnolia & Warner Shopping Center (Smart & Final Center)\n\nBBQ & Scavenger Hunt
X-ALT-DESC;FMTTYPE=text/html:Chamber Awareness Month<br />\nMagnolia &amp\; Warner Shopping Center (Smart &amp\; Final Center)<br />\nBBQ &amp\; Scavenger Hunt
LOCATION:Smart & Final Shopping Center Magnolia & Warner
UID:e.2030.2170
SEQUENCE:3
DTSTAMP:20260426T030415Z
URL:http://business.fvchamber.com/events/details/shopping-center-promotion-10-17-2015-2170
END:VEVENT

END:VCALENDAR
