BEGIN:VCALENDAR
VERSION:2.0
PRODID:-//ChamberMaster//Event Calendar 2.0//EN
METHOD:PUBLISH
X-PUBLISHED-TTL:P3D
REFRESH-INTERVAL:P3D
CALSCALE:GREGORIAN
BEGIN:VEVENT
DTSTART:20151003T180000Z
DTEND:20151003T210000Z
X-MICROSOFT-CDO-ALLDAYEVENT:FALSE
SUMMARY:Shopping Center Promotion
DESCRIPTION:Chamber Awareness Month\n\nBrookhurst/Edinger Shopping Center\n\nBBQ and Scavenger Hunt
X-ALT-DESC;FMTTYPE=text/html:<span style="font-size:14px\;"><span style="font-family: tahoma\;"><strong><u><span style="font-size:16px\;"><em>Chamber Awareness Month</em></span></u><br />\nBrookhurst/Edinger Shopping Center<br />\nBBQ and Scavenger Hunt</strong></span></span>
LOCATION:Brookhurst at Edinger Shopping Center
UID:e.2030.2169
SEQUENCE:3
DTSTAMP:20260426T012555Z
URL:http://business.fvchamber.com/events/details/shopping-center-promotion-10-03-2015-2169
END:VEVENT

END:VCALENDAR
