BEGIN:VCALENDAR
VERSION:2.0
PRODID:-//ChamberMaster//Event Calendar 2.0//EN
METHOD:PUBLISH
X-PUBLISHED-TTL:P3D
REFRESH-INTERVAL:P3D
CALSCALE:GREGORIAN
BEGIN:VEVENT
DTSTART;VALUE=DATE:20200814
DTEND;VALUE=DATE:20200815
TRANSP:TRANSPARENT
X-MICROSOFT-CDO-ALLDAYEVENT:TRUE
SUMMARY:SHOP 92708 Coupon Book 2020
DESCRIPTION:The Fountain Valley Chamber of Commerce and Fountain Valley Living Magazine are teaming up to publish the "SHOP 92708 Coupon Book 2020" which will be released in Late August.  Don't miss the opportunity to advertise to 1000's of Fountain Valley Residents for just PENNIES!!
X-ALT-DESC;FMTTYPE=text/html:<span style="font-size:14px\;">The Fountain Valley Chamber of Commerce and Fountain Valley Living Magazine are teaming up to publish the &quot\;SHOP 92708 Coupon Book 2020&quot\; which will be released in Late August.&nbsp\; Don&#39\;t miss the opportunity to advertise to 1000&#39\;s of Fountain Valley Residents for just PENNIES!!</span>
LOCATION:Advertise your Business to get Mass Exposure .... OR .... Include a Valuable Coupon to get customers back through your doors.
UID:e.2030.5319
SEQUENCE:3
DTSTAMP:20260422T074745Z
URL:http://business.fvchamber.com/events/details/shop-92708-coupon-book-2020-5319
END:VEVENT

END:VCALENDAR
