BEGIN:VCALENDAR
VERSION:2.0
PRODID:-//ChamberMaster//Event Calendar 2.0//EN
METHOD:PUBLISH
X-PUBLISHED-TTL:P3D
REFRESH-INTERVAL:P3D
CALSCALE:GREGORIAN
BEGIN:VEVENT
DTSTART:20211013T190000Z
DTEND:20211013T203000Z
X-MICROSOFT-CDO-ALLDAYEVENT:FALSE
SUMMARY:Setting Up Your Business for Success
DESCRIPTION:It is not easy to find success in starting or running a business. Whether it's your first business\, a side hustle\, or your fifth attempt at the next big thing\, setting yourself up for success is key. In this session we'll show you: In this session we'll show you how to: How to prioritize your mission and vision How to plan and organize yourself as a business owner. How to work ON your business and IN your business\nInstructions: In response to COVID-19 public health concerns\, all workshops will be held on ZOOM\, an online video platform\, until further notice. To maintain quality and security during virtual events\, you will be sent a link to join the meeting on the day of the event\, up to 30 minutes prior to the scheduled start time. If you do not receive the link check your spam inbox then call (760) 345-9200 for assistance.
X-ALT-DESC;FMTTYPE=text/html:<div class="conf-desc" style="padding-top: 0px\; padding-bottom: 10px\; font-family: Lato\, Arial\, Helvetica\, sans-serif\; font-size: 16px\;">It is not easy to find success in starting or running a business. Whether it&rsquo\;s your first business\, a side hustle\, or your fifth attempt at the next big thing\, setting yourself up for success is key. In this session we&rsquo\;ll show you: In this session we&rsquo\;ll show you how to: How to prioritize your mission and vision How to plan and organize yourself as a business owner. How to work ON your business and IN your business</div>\n<label style="font-weight: bold\; line-height: 20px\; font-family: Lato\, Arial\, Helvetica\, sans-serif\; font-size: 16px\;">Instructions:</label><span style="font-family: Lato\, Arial\, Helvetica\, sans-serif\; font-size: 16px\;">&nbsp\;In response to COVID-19 public health concerns\, all workshops will be held on ZOOM\, an online video platform\, until further notice. To maintain quality and security during virtual events\, you will be sent a link to join the meeting on the day of the event\, up to 30 minutes prior to the scheduled start time. If you do not receive the link check your spam inbox then call (760) 345-9200 for assistance.</span>
LOCATION:Zoom
UID:e.2030.5396
SEQUENCE:3
DTSTAMP:20260421T065352Z
URL:http://business.fvchamber.com/events/details/setting-up-your-business-for-success-5396
END:VEVENT

END:VCALENDAR
