BEGIN:VCALENDAR
VERSION:2.0
PRODID:-//ChamberMaster//Event Calendar 2.0//EN
METHOD:PUBLISH
X-PUBLISHED-TTL:P3D
REFRESH-INTERVAL:P3D
CALSCALE:GREGORIAN
BEGIN:VEVENT
DTSTART:20170525T003000Z
DTEND:20170525T013000Z
X-MICROSOFT-CDO-ALLDAYEVENT:FALSE
SUMMARY:Seeden Photography Ribbon Cutting
DESCRIPTION:Seeden Photography Ribbon Cutting
X-ALT-DESC;FMTTYPE=text/html:<span style="font-size:16px\;"><strong>Seeden Photography Ribbon Cutting</strong></span>
LOCATION:17280 Newhope St.\, Ste. 12 Fountain Valley
UID:e.2030.4163
SEQUENCE:3
DTSTAMP:20260424T201404Z
URL:http://business.fvchamber.com/events/details/seeden-photography-ribbon-cutting-4163
END:VEVENT

END:VCALENDAR
