BEGIN:VCALENDAR
VERSION:2.0
PRODID:-//ChamberMaster//Event Calendar 2.0//EN
METHOD:PUBLISH
X-PUBLISHED-TTL:P3D
REFRESH-INTERVAL:P3D
CALSCALE:GREGORIAN
BEGIN:VEVENT
DTSTART:20190530T000000Z
DTEND:20190530T020000Z
X-MICROSOFT-CDO-ALLDAYEVENT:FALSE
SUMMARY:Seeden Photography Open House Mixer
DESCRIPTION:Join The Fountain Valley Chamber of Commerce as we enjoy a night at Seeden Photography's After Hours Mixer. Enjoy the conversations\, connections\, and camaraderie. Food\, drinks\, and prizes will be present at the event. See you there!
X-ALT-DESC;FMTTYPE=text/html:<font face="verdana"><span style="font-size: 16px\;"><b>Join The Fountain Valley Chamber of Commerce as we enjoy a night at Seeden Photography&#39\;s After Hours Mixer. Enjoy the conversations\, connections\, and camaraderie. Food\, drinks\, and prizes will be present at the event. See you there!</b></span></font>
LOCATION:17280 Newhope St. Suite 12 Fountain Valley\, CA 92708
UID:e.2030.5113
SEQUENCE:3
DTSTAMP:20260423T070552Z
URL:http://business.fvchamber.com/events/details/seeden-photography-open-house-mixer-5113
END:VEVENT

END:VCALENDAR
