BEGIN:VCALENDAR
VERSION:2.0
PRODID:-//ChamberMaster//Event Calendar 2.0//EN
METHOD:PUBLISH
X-PUBLISHED-TTL:P3D
REFRESH-INTERVAL:P3D
CALSCALE:GREGORIAN
BEGIN:VEVENT
DTSTART:20210914T190000Z
DTEND:20210914T200000Z
X-MICROSOFT-CDO-ALLDAYEVENT:FALSE
SUMMARY:Securing your Business and Legacy through Estate Planning
DESCRIPTION:Learn about how to secure your business and your legacy through estate planning. Topics covered will include estate planning\, business succession planning\, and pre-liquidity planning for optimal tax\, business\, and family planning efficiencies. Special attention will be given to the needs of startup and tech businesses\, including through discussions of QSBS stacking and packing\, GRATs\, DGTs\, and charitable planning techniques.\n\nAbout the speaker:\n\nSteffi Gasc n Hafen is a Certified Specialist in Estate Planning\, Trust and Probate Law\, California Board of Legal Specialization. She is a cofounding partner of the San Diego office of Snell & Wilmer\, a partner of the firm's Private Client Services and General Federal Tax practice groups\, and works in the San Diego\, Orange County and Los Angeles offices. Her practice is concentrated in tax\, trust\, and estate matters with an emphasis on estate planning\, trust and probate administration\, and estate and gift taxation. She employs advanced estate planning techniques\, including grantor retained annuity trusts\, family partnerships\, limited liability companies\, charitable remainder trusts\, defective grantor trusts\, insurance planning\, public charities\, and private foundations. She also advises clients regarding succession planning for closely-held businesses. In addition\, Steffi has experience in state and local taxation\, including income taxation\, sales and use taxation\, and property taxation\, as well as issues regarding residency and domicile. Steffi also represents clients in front of the California state and local taxing authorities\, and the Internal Revenue Service. She works with clients' certified public accountants\, financial planners\, and other service providers to provide holistic solutions to clients' needs.
X-ALT-DESC;FMTTYPE=text/html:<p style="box-sizing: border-box\; margin: 0px 0px 20px\; color: rgb(97\, 97\, 97)\; font-size: 14px\; line-height: 1.8\; font-family: Roboto\, sans-serif\; background-color: rgb(255\, 255\, 255)\;">Learn about how to secure your business and your legacy through estate planning. Topics covered will include estate planning\, business succession planning\, and pre-liquidity planning for optimal tax\, business\, and family planning efficiencies. Special attention will be given to the needs of startup and tech businesses\, including through discussions of QSBS stacking and packing\, GRATs\, DGTs\, and charitable planning techniques.</p>\n\n<p style="box-sizing: border-box\; margin: 0px 0px 20px\; color: rgb(97\, 97\, 97)\; font-size: 14px\; line-height: 1.8\; font-family: Roboto\, sans-serif\; background-color: rgb(255\, 255\, 255)\;"><span style="box-sizing: border-box\; font-weight: bolder\;">About the speaker:</span><br style="box-sizing: border-box\;" />\nSteffi Gasc&oacute\;n Hafen is a Certified Specialist in Estate Planning\, Trust and Probate Law\, California Board of Legal Specialization. She is a cofounding partner of the San Diego office of Snell &amp\; Wilmer\, a partner of the firm&rsquo\;s Private Client Services and General Federal Tax practice groups\, and works in the San Diego\, Orange County and Los Angeles offices. Her practice is concentrated in tax\, trust\, and estate matters with an emphasis on estate planning\, trust and probate administration\, and estate and gift taxation. She employs advanced estate planning techniques\, including grantor retained annuity trusts\, family partnerships\, limited liability companies\, charitable remainder trusts\, defective grantor trusts\, insurance planning\, public charities\, and private foundations. She also advises clients regarding succession planning for closely-held businesses. In addition\, Steffi has experience in state and local taxation\, including income taxation\, sales and use taxation\, and property taxation\, as well as issues regarding residency and domicile. Steffi also represents clients in front of the California state and local taxing authorities\, and the Internal Revenue Service. She works with clients&rsquo\; certified public accountants\, financial planners\, and other service providers to provide holistic solutions to clients&rsquo\; needs.</p>\n
LOCATION:Webinar
UID:e.2030.5380
SEQUENCE:3
DTSTAMP:20260421T085909Z
URL:http://business.fvchamber.com/events/details/securing-your-business-and-legacy-through-estate-planning-5380
END:VEVENT

END:VCALENDAR
