BEGIN:VCALENDAR
VERSION:2.0
PRODID:-//ChamberMaster//Event Calendar 2.0//EN
METHOD:PUBLISH
X-PUBLISHED-TTL:P3D
REFRESH-INTERVAL:P3D
CALSCALE:GREGORIAN
BEGIN:VEVENT
DTSTART:20201021T000000Z
DTEND:20201021T010000Z
X-MICROSOFT-CDO-ALLDAYEVENT:FALSE
SUMMARY:Seashore Pest Control Grand Opening Ribbon Cutting
DESCRIPTION:Join the Fountain Valley Chamber of Commerce as we re-open our beloved member: Seashore Pest Control business once again.\n\n\n\n*Make sure to abide by all social distancing guidelines & wear a mask at all-times.\n\n\n\nWe can't wait to see you there!
X-ALT-DESC;FMTTYPE=text/html:<strong><span style="color:#000080\;"><span style="font-family:verdana\;"><span style="font-size:18px\;">Join the Fountain Valley Chamber of Commerce as we re-open our beloved member: Seashore Pest Control business once again.<br />\n<br />\n*Make sure to abide by all social distancing guidelines &amp\; wear a mask at all-times.<br />\n<br />\nWe can&#39\;t wait to see you there!</span></span></span></strong>
LOCATION:16131 Gothard St. #J Huntington Beach\, CA 92647
UID:e.2030.5325
SEQUENCE:3
DTSTAMP:20260422T042227Z
URL:http://business.fvchamber.com/events/details/seashore-pest-control-grand-opening-ribbon-cutting-5325
END:VEVENT

END:VCALENDAR
