BEGIN:VCALENDAR
VERSION:2.0
PRODID:-//ChamberMaster//Event Calendar 2.0//EN
METHOD:PUBLISH
X-PUBLISHED-TTL:P3D
REFRESH-INTERVAL:P3D
CALSCALE:GREGORIAN
BEGIN:VEVENT
DTSTART:20231118T190000Z
DTEND:20231118T220000Z
X-MICROSOFT-CDO-ALLDAYEVENT:FALSE
SUMMARY:SCA Outdoor Ribbon Cutting
DESCRIPTION:Come join us to celebrate SCA Outdoor's New Showroom right here in Fountain Valley!
X-ALT-DESC;FMTTYPE=text/html:<span style="color:#000080\;"><span style="font-size:22px\;"><strong>Come join us to celebrate SCA Outdoor&#39\;s New Showroom right here in Fountain Valley!</strong></span></span>
LOCATION:18195 Euclid St. Fountain Valley\, CA 92708
UID:e.2030.6197
SEQUENCE:3
DTSTAMP:20260419T125428Z
URL:http://business.fvchamber.com/events/details/sca-outdoor-ribbon-cutting-6197
END:VEVENT

END:VCALENDAR
