BEGIN:VCALENDAR
VERSION:2.0
PRODID:-//ChamberMaster//Event Calendar 2.0//EN
METHOD:PUBLISH
X-PUBLISHED-TTL:P3D
REFRESH-INTERVAL:P3D
CALSCALE:GREGORIAN
BEGIN:VEVENT
DTSTART:20210311T160000Z
DTEND:20210311T170000Z
X-MICROSOFT-CDO-ALLDAYEVENT:FALSE
SUMMARY:SBU Online: How to Create a Strategic Marketing Plan
DESCRIPTION:SBU Online Keynote Speaker\n\nKatlynn Pyatt\n\n"Plan for Marketing Success:  How to Create a Strategic Marketing Plan"
X-ALT-DESC;FMTTYPE=text/html:SBU Online Keynote Speaker<br />\nKatlynn Pyatt<br />\n&quot\;Plan for Marketing Success:&nbsp\; How to Create a Strategic Marketing Plan&quot\;
LOCATION:Online Webinar
UID:e.2030.5345
SEQUENCE:3
DTSTAMP:20260421T205850Z
URL:http://business.fvchamber.com/events/details/sbu-online-how-to-create-a-strategic-marketing-plan-5345
END:VEVENT

END:VCALENDAR
