BEGIN:VCALENDAR
VERSION:2.0
PRODID:-//ChamberMaster//Event Calendar 2.0//EN
METHOD:PUBLISH
X-PUBLISHED-TTL:P3D
REFRESH-INTERVAL:P3D
CALSCALE:GREGORIAN
BEGIN:VEVENT
DTSTART:20200423T190000Z
DTEND:20200423T200000Z
X-MICROSOFT-CDO-ALLDAYEVENT:FALSE
SUMMARY:SBDC Business Resiliency Webinar Series
DESCRIPTION:Earlier this week we tackled how to leverage SBA disaster loan programs and other funding opportunities for businesses. This Thursday April 23rd don't miss our panelists from LISC -LA and Main Street Launch as they provide an overview to some of the alternative financing options available to businesses and how to apply. \n\n \n\nInformation is changing and updating daily and we want to assure small business owners and the community are provided with the most up to date and factual information available for funding opportunities. \n\n \n\nPanelists:\n\n \n\n	Tunua Thrash-Ntuk\, Executive Director\, Local Initiatives Support Corporation Los Angeles (LISC)  \n	Darius Mahaer\, Senior Vice President\, Regional Lending Director   Southern California\, Main Street Launch \n	Linda Nguyen\, Vice President\, Community Relations   Greater Los Angeles and Orange County West Region\, Wells Fargo \n\nMike Daniel\, Regional Director\, Orange County Inland Empire SBDC Network
X-ALT-DESC;FMTTYPE=text/html:<strong><span style="color:#403F42\;"><span style="font-family:trebuchet ms\,sans-serif\;"><span style="font-size:10.5pt\;">Earlier this week we tackled how to leverage SBA disaster loan programs and other funding opportunities for businesses. This Thursday April 23rd don&#39\;t miss our panelists from LISC -LA and Main Street Launch as they provide an overview to some of the alternative financing options available to businesses and how to apply. </span></span></span></strong><br />\n&nbsp\;<br />\n<span style="color:#403F42\;"><span style="font-family:trebuchet ms\,sans-serif\;"><span style="font-size:10.5pt\;">Information is changing and updating daily and we want to assure small business owners and the community are provided with the most up to date and factual information available for funding opportunities. </span></span></span><br />\n&nbsp\;<br />\n<strong><span style="color:#403F42\;"><span style="font-family:trebuchet ms\,sans-serif\;"><span style="font-size:10.5pt\;">Panelists:</span></span></span></strong><br />\n&nbsp\;\n<ul>\n	<li><span style="color:#403F42\;"><span style="font-family:trebuchet ms\,sans-serif\;"><span style="font-size:10.5pt\;">Tunua Thrash-Ntuk\, Executive Director\, <strong>Local Initiatives Support Corporation Los Angeles (LISC)&nbsp\;</strong> </span></span></span></li>\n	<li><span style="color:#403F42\;"><span style="font-family:trebuchet ms\,sans-serif\;"><span style="font-size:10.5pt\;">Darius Mahaer\, Senior Vice President\, R<strong>egional Lending Director &ndash\; Southern California\, Main Street Launch </strong></span></span></span></li>\n	<li><span style="color:#403F42\;"><span style="font-family:trebuchet ms\,sans-serif\;"><span style="font-size:10.5pt\;">Linda Nguyen\, Vice President\, Community Relations &ndash\; Greater Los Angeles and Orange County West Region\, <strong>Wells Fargo</strong> </span></span></span></li>\n</ul>\n<span style="color:#403F42\;"><span style="font-family:trebuchet ms\,sans-serif\;"><span style="font-size:10.5pt\;">Mike Daniel\, Regional Director\, <strong>Orange County Inland Empire SBDC Network</strong></span></span></span>
LOCATION:From The Comfort Of Your Home
UID:e.2030.5311
SEQUENCE:3
DTSTAMP:20260422T143205Z
URL:http://business.fvchamber.com/events/details/sbdc-business-resiliency-webinar-series-5311
END:VEVENT

END:VCALENDAR
