BEGIN:VCALENDAR
VERSION:2.0
PRODID:-//ChamberMaster//Event Calendar 2.0//EN
METHOD:PUBLISH
X-PUBLISHED-TTL:P3D
REFRESH-INTERVAL:P3D
CALSCALE:GREGORIAN
BEGIN:VEVENT
DTSTART:20230414T000000Z
DTEND:20230414T020000Z
X-MICROSOFT-CDO-ALLDAYEVENT:FALSE
SUMMARY:Sassy Salon Ribbon Cutting/ Network at Night
DESCRIPTION:Join Sassy Salon for their Ribbon Cutting & Network at Night!\n\nThere will be a Taco Truck\, Raffle\, and more!!
X-ALT-DESC;FMTTYPE=text/html:<span style="color:#800080\;"><span style="font-size:20px\;"><span style="font-family:tahoma\;"><strong>Join Sassy Salon for their Ribbon Cutting &amp\; Network at Night!<br />\nThere will be a Taco Truck\, Raffle\, and more!!</strong></span></span></span>
LOCATION:18946 Brookhurst St. Fountain Valley\, CA 92708
UID:e.2030.5904
SEQUENCE:3
DTSTAMP:20260420T014043Z
URL:http://business.fvchamber.com/events/details/sassy-salon-ribbon-cutting-network-at-night-5904
END:VEVENT

END:VCALENDAR
