BEGIN:VCALENDAR
VERSION:2.0
PRODID:-//ChamberMaster//Event Calendar 2.0//EN
METHOD:PUBLISH
X-PUBLISHED-TTL:P3D
REFRESH-INTERVAL:P3D
CALSCALE:GREGORIAN
BEGIN:VEVENT
DTSTART:20210924T170000Z
DTEND:20210926T000000Z
X-MICROSOFT-CDO-ALLDAYEVENT:FALSE
SUMMARY:Salt & Pepper Diamond Event
DESCRIPTION:Ballard & Ballard is welcoming all customers to make an appointment to see these beautiful Salt & Pepper Diamonds.\n\nCall. Text. Or Email to Schedule \n\n714.962.0088
X-ALT-DESC;FMTTYPE=text/html:<span style="font-size:20px\;"><strong>Ballard &amp\; Ballard is welcoming all customers to make an appointment to see these beautiful Salt &amp\; Pepper Diamonds.<br />\nCall. Text. Or Email to Schedule&nbsp\;<br />\n714.962.0088</strong></span>
LOCATION:Ballard & Ballard 18400 Brookhurst Street Fountain Valley\, CA 92708
UID:e.2030.5384
SEQUENCE:3
DTSTAMP:20260421T083704Z
URL:http://business.fvchamber.com/events/details/salt-pepper-diamond-event-5384
END:VEVENT

END:VCALENDAR
