BEGIN:VCALENDAR
VERSION:2.0
PRODID:-//ChamberMaster//Event Calendar 2.0//EN
METHOD:PUBLISH
X-PUBLISHED-TTL:P3D
REFRESH-INTERVAL:P3D
CALSCALE:GREGORIAN
BEGIN:VEVENT
DTSTART:20230714T210000Z
DTEND:20230717T000000Z
X-MICROSOFT-CDO-ALLDAYEVENT:FALSE
SUMMARY:Saigon Grand Center Summer Expo
DESCRIPTION:Saigon Grand Center Summer Expo!\n\n\n\nGlobal and Local Products Brands\n\nArt and Entertainment Shows\n\nProfessional Services\n\nFamily and Kids Activities\n\nFree Health Screenings\n\n3000+ Weekly Visitors\n\n30+ Vendors
X-ALT-DESC;FMTTYPE=text/html:<span style="font-size:22px\;">Saigon Grand Center Summer Expo!<br />\n<br />\nGlobal and Local Products Brands<br />\nArt and Entertainment Shows<br />\nProfessional Services<br />\nFamily and Kids Activities<br />\nFree Health Screenings<br />\n3000+ Weekly Visitors<br />\n30+ Vendors</span>
LOCATION:Saigon Grand Center 16149 Brookhurst Street Fountain Valley
UID:e.2030.6184
SEQUENCE:3
DTSTAMP:20260419T193537Z
URL:http://business.fvchamber.com/events/details/saigon-grand-center-summer-expo-6184
END:VEVENT

END:VCALENDAR
