BEGIN:VCALENDAR
VERSION:2.0
PRODID:-//ChamberMaster//Event Calendar 2.0//EN
METHOD:PUBLISH
X-PUBLISHED-TTL:P3D
REFRESH-INTERVAL:P3D
CALSCALE:GREGORIAN
BEGIN:VEVENT
DTSTART:20160831T010000Z
DTEND:20160831T040000Z
X-MICROSOFT-CDO-ALLDAYEVENT:FALSE
SUMMARY:Rotary Wine & Appetizer Fundraiser
DESCRIPTION:Fountain Valley Rotary presents\n\nWine & Appetizer Fundraiser
X-ALT-DESC;FMTTYPE=text/html:<span style="font-size:14px\;"><em><strong>Fountain Valley Rotary presents</strong></em></span><br />\n<span style="font-size:16px\;"><strong>Wine &amp\; Appetizer Fundraiser</strong></span>
LOCATION:Home of Chef Marla McGee 10642 Morning Glory Avenue Fountain Valley
UID:e.2030.3827
SEQUENCE:3
DTSTAMP:20260425T111036Z
URL:http://business.fvchamber.com/events/details/rotary-wine-appetizer-fundraiser-08-30-2016-3827
END:VEVENT

END:VCALENDAR
