BEGIN:VCALENDAR
VERSION:2.0
PRODID:-//ChamberMaster//Event Calendar 2.0//EN
METHOD:PUBLISH
X-PUBLISHED-TTL:P3D
REFRESH-INTERVAL:P3D
CALSCALE:GREGORIAN
BEGIN:VEVENT
DTSTART:20201031T210000Z
DTEND:20201031T230000Z
X-MICROSOFT-CDO-ALLDAYEVENT:FALSE
SUMMARY:Rosy Dental Halloween Drive Thru (Trick or Treat Event)
DESCRIPTION:Join Rosy Dental for their Halloween spectacular. There will be Popcorn\, Barn Animals\, Dog Treats\, Live Music\, and Candies!
X-ALT-DESC;FMTTYPE=text/html:<strong><span style="color:#B22222\;"><span style="font-family:verdana\;"><span style="font-size:18px\;">Join Rosy Dental for their Halloween spectacular. There will be Popcorn\, Barn Animals\, Dog Treats\, Live Music\, and Candies!</span></span></span></strong>
LOCATION:Rosy Dental Parking Lot 16575 Brookhurst St. #A Fountain Valley\, CA 92708
UID:e.2030.5326
SEQUENCE:3
DTSTAMP:20260422T042526Z
URL:http://business.fvchamber.com/events/details/rosy-dental-halloween-drive-thru-trick-or-treat-event-5326
END:VEVENT

END:VCALENDAR
