BEGIN:VCALENDAR
VERSION:2.0
PRODID:-//ChamberMaster//Event Calendar 2.0//EN
METHOD:PUBLISH
X-PUBLISHED-TTL:P3D
REFRESH-INTERVAL:P3D
CALSCALE:GREGORIAN
BEGIN:VEVENT
DTSTART:20220414T233000Z
DTEND:20220415T020000Z
X-MICROSOFT-CDO-ALLDAYEVENT:FALSE
SUMMARY:Ribbon Cutting/ Network at Night
DESCRIPTION:Please join us and Carlitos Diner for their big celebration and also their first time hosting a Network at Night!
X-ALT-DESC;FMTTYPE=text/html:<span style="font-size:20px\;"><span style="font-family:tahoma\;"><span style="color:#0000CD\;"><strong>Please join us and Carlitos Diner for their big celebration and also their first time hosting a Network at Night!</strong></span></span></span>
LOCATION:18033 Magnolia St.\, Fountain Valley\, CA 92708
UID:e.2030.5576
SEQUENCE:3
DTSTAMP:20260420T203245Z
URL:http://business.fvchamber.com/events/details/ribbon-cutting-network-at-night-5576
END:VEVENT

END:VCALENDAR
