BEGIN:VCALENDAR
VERSION:2.0
PRODID:-//ChamberMaster//Event Calendar 2.0//EN
METHOD:PUBLISH
X-PUBLISHED-TTL:P3D
REFRESH-INTERVAL:P3D
CALSCALE:GREGORIAN
BEGIN:VEVENT
DTSTART:20150828T233000Z
DTEND:20150829T023000Z
X-MICROSOFT-CDO-ALLDAYEVENT:FALSE
SUMMARY:Ribbon Cutting: Manfred Orthodontics
DESCRIPTION:Manfred Orthodontics\n\nOpen House & Ribbon Cutting\n\nTacos & Libations will be served
X-ALT-DESC;FMTTYPE=text/html:<br />\n<span style="font-size:16px\;"><span style="font-family: verdana\;"><strong>Manfred Orthodontics<br />\n<em>Open House &amp\; Ribbon Cutting</em></strong><br />\n<span style="font-size:12px\;">Tacos &amp\; Libations will be served</span></span></span>
LOCATION:9092 Talbert Ave.\, Ste. 14 Fountain Valley\, CA 92708
UID:e.2030.2158
SEQUENCE:3
DTSTAMP:20260426T041610Z
URL:http://business.fvchamber.com/events/details/ribbon-cutting-manfred-orthodontics-08-28-2015-2158
END:VEVENT

END:VCALENDAR
