BEGIN:VCALENDAR
VERSION:2.0
PRODID:-//ChamberMaster//Event Calendar 2.0//EN
METHOD:PUBLISH
X-PUBLISHED-TTL:P3D
REFRESH-INTERVAL:P3D
CALSCALE:GREGORIAN
BEGIN:VEVENT
DTSTART:20170825T000000Z
DTEND:20170825T020000Z
X-MICROSOFT-CDO-ALLDAYEVENT:FALSE
SUMMARY:Restoration Pros\, LLC Mixer
DESCRIPTION:Restoration Pros\, LLC Mixer
X-ALT-DESC;FMTTYPE=text/html:<span style="font-size:20px\;"><strong>Restoration Pros\, LLC Mixer</strong></span>
LOCATION:11623 Slater Ave #E Fountain Valley\, CA 92708
UID:e.2030.4209
SEQUENCE:3
DTSTAMP:20260424T154709Z
URL:http://business.fvchamber.com/events/details/restoration-pros-llc-mixer-4209
END:VEVENT

END:VCALENDAR
