BEGIN:VCALENDAR
VERSION:2.0
PRODID:-//ChamberMaster//Event Calendar 2.0//EN
METHOD:PUBLISH
X-PUBLISHED-TTL:P3D
REFRESH-INTERVAL:P3D
CALSCALE:GREGORIAN
BEGIN:VEVENT
DTSTART:20220914T190000Z
DTEND:20220914T200000Z
X-MICROSOFT-CDO-ALLDAYEVENT:FALSE
SUMMARY:Referral Roundup
DESCRIPTION:Do you like networking\, but you want to get more out of it? Join us every 2nd and 4th Wednesday to help your business grow!\n\nFree for all Chamber Members!
X-ALT-DESC;FMTTYPE=text/html:<span style="font-size:22px\;"><span style="font-family:tahoma\;"><span style="color:#0000CD\;"><strong>Do you like networking\, but you want to get more out of it? Join us every 2nd and 4th Wednesday to help your business grow!<br />\nFree for all Chamber Members!</strong></span></span></span>
LOCATION:
UID:e.2030.5606
SEQUENCE:3
DTSTAMP:20260420T135513Z
URL:http://business.fvchamber.com/events/details/referral-roundup-09-14-2022-5606
END:VEVENT

END:VCALENDAR
