BEGIN:VCALENDAR
VERSION:2.0
PRODID:-//ChamberMaster//Event Calendar 2.0//EN
METHOD:PUBLISH
X-PUBLISHED-TTL:P3D
REFRESH-INTERVAL:P3D
CALSCALE:GREGORIAN
BEGIN:VEVENT
DTSTART:20220218T210000Z
DTEND:20220218T220000Z
X-MICROSOFT-CDO-ALLDAYEVENT:FALSE
SUMMARY:Redistricting Report
DESCRIPTION:Learn about Redistricting of the Congressional\, Senate\, and Assembly lines and how it affects you.
X-ALT-DESC;FMTTYPE=text/html:<span style="font-size:18px\;"><span style="font-family:verdana\;"><span style="color:#000080\;"><strong>Learn about Redistricting of the Congressional\, Senate\, and Assembly lines and how it affects you.</strong></span></span></span>
LOCATION:Zoom
UID:e.2030.5570
SEQUENCE:3
DTSTAMP:20260421T000754Z
URL:http://business.fvchamber.com/events/details/redistricting-report-5570
END:VEVENT

END:VCALENDAR
