BEGIN:VCALENDAR
VERSION:2.0
PRODID:-//ChamberMaster//Event Calendar 2.0//EN
METHOD:PUBLISH
X-PUBLISHED-TTL:P3D
REFRESH-INTERVAL:P3D
CALSCALE:GREGORIAN
BEGIN:VEVENT
DTSTART:20230729T010000Z
DTEND:20230729T030000Z
X-MICROSOFT-CDO-ALLDAYEVENT:FALSE
SUMMARY:Qargo Coffee Bingo Gelato Night
DESCRIPTION:Fountain Valley\, get ready for a sweet and empowering night!\n\n \n\nLet's share a tasty moment with Qargo Coffee!\n\n \n\n \n\nAre you a Gelato lover? Do you want to enjoy a fun Bingo night and win exclusive prizes? We have the perfect plan for you!\n\n\n\nCome to our store on Friday\, July 28th\, and be part of our first Bingo Gelato Night.\n\n\n\nRSVP now\, invite all your friends\, and share an amazing night with the Qargo Coffee family!
X-ALT-DESC;FMTTYPE=text/html:<div class="ec-editor-block h2" data-elementtype="text" data-font="Heebo:500" style="box-sizing: border-box\; margin: 0px\; padding: 0px\; font-family: Heebo\; line-height: 33.6px\; font-size: 30px\; position: relative\; background-color: rgb(255\, 255\, 255)\; text-align: center\;"><span style="box-sizing: border-box\; margin: 0px\; padding: 0px\; font-weight: 700\;"><span style="box-sizing: border-box\; margin: 0px\; padding: 0px\; color: rgb(0\, 52\, 101)\;">Fountain Valley\, get ready for a sweet and empowering night!</span></span></div>\n\n<div class="ec-editor-block" data-elementtype="spacer" style="box-sizing: border-box\; margin: 0px\; padding: 0px\; position: relative\; font-family: roboto\; font-size: 14px\; background-color: rgb(255\, 255\, 255)\; height: 12px\;">&nbsp\;</div>\n\n<div class="ec-editor-block h2" data-elementtype="text" data-font="Heebo:400" style="box-sizing: border-box\; margin: 0px\; padding: 0px\; font-family: Heebo\; line-height: 25.3px\; font-size: 23px\; position: relative\; background-color: rgb(255\, 255\, 255)\; text-align: center\;"><span style="box-sizing: border-box\; margin: 0px\; padding: 0px\; color: rgb(0\, 52\, 101)\;">Let&#39\;s share a tasty moment with Qargo Coffee!</span></div>\n\n<div class="ec-editor-block" data-elementtype="spacer" style="box-sizing: border-box\; margin: 0px\; padding: 0px\; position: relative\; font-family: roboto\; font-size: 14px\; background-color: rgb(255\, 255\, 255)\; height: 20px\;">&nbsp\;</div>\n\n<div class="ec-editor-block plead" data-elementtype="text" data-font="Heebo:400" style="box-sizing: border-box\; margin: 0px\; padding: 0px\; position: relative\; font-size: 20px\; line-height: 34.8px\; font-family: Heebo\; letter-spacing: 0px\; background-color: rgb(255\, 255\, 255)\; text-align: center\;">&nbsp\;</div>\n\n<div class="ec-editor-block p" data-elementtype="text" data-font="Heebo:400" style="box-sizing: border-box\; margin: 0px\; padding: 0px\; position: relative\; font-size: 20px\; line-height: 23.8px\; font-family: Heebo\; letter-spacing: 0px\; background-color: rgb(255\, 255\, 255)\; text-align: center\;"><span style="box-sizing: border-box\; margin: 0px\; padding: 0px\; color: rgb(0\, 52\, 101)\;">Are you a<span style="box-sizing: border-box\; margin: 0px\; padding: 0px\; font-weight: 700\;">&nbsp\;Gelato lover</span>? Do you want to enjoy a fun<span style="box-sizing: border-box\; margin: 0px\; padding: 0px\; font-weight: 700\;">&nbsp\;Bingo night&nbsp\;</span>and win exclusive prizes? We have the perfect plan for you!</span><br style="box-sizing: border-box\; margin: 0px\; padding: 0px\;" />\n<br style="box-sizing: border-box\; margin: 0px\; padding: 0px\;" />\n<span style="box-sizing: border-box\; margin: 0px\; padding: 0px\; color: rgb(0\, 52\, 101)\;">Come to our store on Friday\, July 28th\, and be part&nbsp\;</span><span style="box-sizing: border-box\; margin: 0px\; padding: 0px\; color: rgb(0\, 52\, 101)\;">of our first&nbsp\;<span style="box-sizing: border-box\; margin: 0px\; padding: 0px\; font-weight: 700\;">Bingo Gelato Night</span>.<br style="box-sizing: border-box\; margin: 0px\; padding: 0px\;" />\n<br style="box-sizing: border-box\; margin: 0px\; padding: 0px\;" />\n<span style="box-sizing: border-box\; margin: 0px\; padding: 0px\; font-weight: 700\;">RSVP now</span>\, invite all your friends\, and share an amazing night&nbsp\;</span><span style="box-sizing: border-box\; margin: 0px\; padding: 0px\; color: rgb(0\, 52\, 101)\;">with the&nbsp\;<span style="box-sizing: border-box\; margin: 0px\; padding: 0px\; font-weight: 700\;">Qargo Coffee</span>&nbsp\;family!</span></div>\n
LOCATION:Qargo Coffee Fountain Valley 18011 Newhope St. #G\, Fountain Valley\, CA 92708
UID:e.2030.6186
SEQUENCE:3
DTSTAMP:20260419T193656Z
URL:http://business.fvchamber.com/events/details/qargo-coffee-bingo-gelato-night-6186
END:VEVENT

END:VCALENDAR
