BEGIN:VCALENDAR
VERSION:2.0
PRODID:-//ChamberMaster//Event Calendar 2.0//EN
METHOD:PUBLISH
X-PUBLISHED-TTL:P3D
REFRESH-INTERVAL:P3D
CALSCALE:GREGORIAN
BEGIN:VEVENT
DTSTART:20170616T003000Z
DTEND:20170616T020000Z
X-MICROSOFT-CDO-ALLDAYEVENT:FALSE
SUMMARY:Prana Health Chiropractic Ribbon Cutting
DESCRIPTION:Prana Health Chiropractic\n\nRibbon Cutting
X-ALT-DESC;FMTTYPE=text/html:<strong><span style="font-size:16px\;">Prana Health Chiropractic</span><br />\n<span style="font-size:14px\;"><em>Ribbon Cutting</em></span></strong>
LOCATION:18377 Beach Blvd\, Suite 217 Huntington Beach\, CA 92648
UID:e.2030.4165
SEQUENCE:3
DTSTAMP:20260424T184917Z
URL:http://business.fvchamber.com/events/details/prana-health-chiropractic-ribbon-cutting-4165
END:VEVENT

END:VCALENDAR
